BEGIN:VCALENDAR
VERSION:2.0
PRODID:-//ChamberMaster//Event Calendar 2.0//EN
METHOD:PUBLISH
X-PUBLISHED-TTL:P3D
REFRESH-INTERVAL:P3D
CALSCALE:GREGORIAN
BEGIN:VEVENT
DTSTART:20190214T200000Z
DTEND:20190215T000000Z
X-MICROSOFT-CDO-ALLDAYEVENT:FALSE
SUMMARY:Rigger/Signal Person (SPANISH)
DESCRIPTION:OSHA requires that signalpersons and riggers be trained\, tested\, and qualified to meet the new OSHA Rule 1926.1400. This training includes getting workers familiar with both verbal and hand signals. They also must know how to familiarize themselves with the limitations of the crane or hoisting equipment they are using or signaling. This is a basic rigging class with students being certified as signalpersons as well.
X-ALT-DESC;FMTTYPE=text/html:OSHA requires that signalpersons and riggers be trained\, tested\, and qualified to meet the new OSHA Rule 1926.1400. This training includes getting workers familiar with both verbal and hand signals. They also must know how to familiarize themselves with the limitations of the crane or hoisting equipment they are using or signaling. This is a basic rigging class with students being certified as signalpersons as well.
LOCATION:CORPORATE SAFETY SERVICES 2821 S PARKER RD AURORA CO 80014
UID:e.9638.2
SEQUENCE:3
DTSTAMP:20260421T140805Z
URL:https://business.rmmi.org/events/details/rigger-signal-person-spanish-2
END:VEVENT

END:VCALENDAR
