BEGIN:VCALENDAR
VERSION:2.0
PRODID:-//ChamberMaster//Event Calendar 2.0//EN
METHOD:PUBLISH
X-PUBLISHED-TTL:P3D
REFRESH-INTERVAL:P3D
CALSCALE:GREGORIAN
BEGIN:VEVENT
DTSTART:20190214T150000Z
DTEND:20190214T190000Z
X-MICROSOFT-CDO-ALLDAYEVENT:FALSE
SUMMARY:Scaffold Competent Person (SPANISH)
DESCRIPTION:This course ensures that a student will receive all the proper training pursuant to the OSHA requirements of Competent Persons for 29 CFR 1926 Subpart L\, Scaffolding. This course goes beyond basic awareness and into details necessary when learning not just how to protect yourself\, but what it takes to create a safe working environment for those you may be responsible for.
X-ALT-DESC;FMTTYPE=text/html:This course ensures that a student will receive all the proper training pursuant to the OSHA requirements of Competent Persons for 29 CFR 1926 Subpart L\, Scaffolding. This course goes beyond basic awareness and into details necessary when learning not just how to protect yourself\, but what it takes to create a safe working environment for those you may be responsible for.
LOCATION:CORPORATE SAFETY SERVICES 2821 S PARKER RD AURORA CO 80014
UID:e.9638.1
SEQUENCE:3
DTSTAMP:20260421T140510Z
URL:https://business.rmmi.org/events/details/scaffold-competent-person-spanish-1
END:VEVENT

END:VCALENDAR
