BEGIN:VCALENDAR
VERSION:2.0
PRODID:-//ChamberMaster//Event Calendar 2.0//EN
METHOD:PUBLISH
X-PUBLISHED-TTL:P3D
REFRESH-INTERVAL:P3D
CALSCALE:GREGORIAN
BEGIN:VEVENT
DTSTART:20190215T200000Z
DTEND:20190215T220000Z
X-MICROSOFT-CDO-ALLDAYEVENT:FALSE
SUMMARY:WorkSafe 10-Point Safety Training (SPANISH)
DESCRIPTION:WORKSAFE 10-POINT SAFETY TRAINING\n\nThis course is an ideal introduction to jobsite safety for your newer employees. The foundation of this\n\ncourse is our simple\, 10-point WorkSafe Guide developed by the contractors of the RMMI. This class\n\ncovers all the basics necessary to work safely on the jobsite\, including:\n\n1. Safety Policy/Training\n\n2. Personal Protective Equipment/Silica\n\n3. Housekeeping\n\n4. Scaffolding/Fall Protection/Overhead Protection\n\n5. Wall Bracing/Limited Access Zone\n\n6. Ladders\n\n7. Construction Electrical/Power Tools and Motorized Equipment\n\n8. Back Injury Prevention (Ergonomics)\n\n9. Vehicle\, Forklift and Propane\n\n10. Drug & Alcohol
X-ALT-DESC;FMTTYPE=text/html:WORKSAFE 10-POINT SAFETY TRAINING<br />\nThis course is an ideal introduction to jobsite safety for your newer employees. The foundation of this<br />\ncourse is our simple\, 10-point WorkSafe Guide developed by the contractors of the RMMI. This class<br />\ncovers all the basics necessary to work safely on the jobsite\, including:<br />\n1. Safety Policy/Training<br />\n2. Personal Protective Equipment/Silica<br />\n3. Housekeeping<br />\n4. Scaffolding/Fall Protection/Overhead Protection<br />\n5. Wall Bracing/Limited Access Zone<br />\n6. Ladders<br />\n7. Construction Electrical/Power Tools and Motorized Equipment<br />\n8. Back Injury Prevention (Ergonomics)<br />\n9. Vehicle\, Forklift and Propane<br />\n10. Drug &amp\; Alcohol
LOCATION:CORPORATE SAFETY SERVICES 2821 S PARKER RD AURORA CO 80014
UID:e.9638.4
SEQUENCE:3
DTSTAMP:20260421T135328Z
URL:https://business.rmmi.org/events/details/worksafe-10-point-safety-training-spanish-4
END:VEVENT

END:VCALENDAR
